BEGIN:VCALENDAR
VERSION:2.0
PRODID:-//Squarespace Inc/Squarespace 6//v6//EN
BEGIN:VEVENT
UID:5bfdf0fb4fa51a81080b0b1f@squarespace.com
DTSTAMP:20181128T013640Z
DTSTART:20181229T013000Z
DTEND:20181230T045900Z
SUMMARY:Grand Theft Audio
END:VEVENT
END:VCALENDAR
