BEGIN:VCALENDAR
VERSION:2.0
PRODID:-//Squarespace Inc/Squarespace 6//v6//EN
BEGIN:VEVENT
UID:5bcfc8824785d3c856be5a47@squarespace.com
DTSTAMP:20181128T013555Z
DTSTART:20181202T013000Z
DTEND:20181202T045900Z
SUMMARY:Grand Theft Audio
END:VEVENT
END:VCALENDAR
