BEGIN:VCALENDAR
VERSION:2.0
PRODID:-//Squarespace Inc/Squarespace 6//v6//EN
BEGIN:VEVENT
UID:5c0f64ff4ae2379685eb87f8@squarespace.com
DTSTAMP:20181211T072806Z
DTSTART:20181231T130000Z
DTEND:20190101T045900Z
SUMMARY:NYE2019
END:VEVENT
END:VCALENDAR
