BEGIN:VCALENDAR
VERSION:2.0
PRODID:-//Squarespace Inc/Squarespace 6//v6//EN
BEGIN:VEVENT
UID:5c1c12728a922dc01a03fe9d@squarespace.com
DTSTAMP:20181220T220947Z
DTSTART:20181225T133000Z
DTEND:20181226T045900Z
SUMMARY:CLOSED FOR CHRISTMAS DAY
END:VEVENT
END:VCALENDAR
