BEGIN:VCALENDAR
VERSION:2.0
PRODID:-//Squarespace Inc/Squarespace 6//v6//EN
BEGIN:VEVENT
UID:5bfdeedcaa4a99a3b1749524@squarespace.com
DTSTAMP:20181128T012807Z
DTSTART:20181208T013000Z
DTEND:20181209T045900Z
SUMMARY:DFAZ ♁ LIAM
END:VEVENT
END:VCALENDAR
