BEGIN:VCALENDAR
VERSION:2.0
PRODID:-//Squarespace Inc/Squarespace 6//v6//EN
BEGIN:VEVENT
UID:5c459928562fa759dd627853@squarespace.com
DTSTAMP:20190206T022602Z
DTSTART:20190323T003000Z
DTEND:20190324T003000Z
SUMMARY:P.O.MM
END:VEVENT
END:VCALENDAR
