BEGIN:VCALENDAR
VERSION:2.0
PRODID:-//Squarespace Inc/Squarespace 6//v6//EN
BEGIN:VEVENT
UID:5a54b435c83025f265d1468c@squarespace.com
DTSTAMP:20190206T022515Z
DTSTART:20190224T013000Z
DTEND:20190224T013000Z
SUMMARY:P.O.MM
GEO:40.796007;-74.481024
LOCATION:IronBar\, 5 Macrossan Street\, Port Douglas\, QLD\, 4877\, Austral
 ia
END:VEVENT
END:VCALENDAR
