BEGIN:VCALENDAR
VERSION:2.0
PRODID:-//Squarespace Inc/Squarespace 6//v6//EN
BEGIN:VEVENT
UID:5a865e10e2c48398a10d9430@squarespace.com
DTSTAMP:20180216T043118Z
DTSTART:20180217T023000Z
DTEND:20180217T045900Z
SUMMARY:DJ Renatino
END:VEVENT
END:VCALENDAR
