BEGIN:VCALENDAR
VERSION:2.0
PRODID:-//Squarespace Inc/Squarespace 6//v6//EN
BEGIN:VEVENT
UID:5a865e4471c10bc44d9eeb35@squarespace.com
DTSTAMP:20180216T043044Z
DTSTART:20180218T013000Z
DTEND:20180218T045900Z
SUMMARY:DJ ALAN AY
END:VEVENT
END:VCALENDAR
