BEGIN:VCALENDAR
VERSION:2.0
PRODID:-//Squarespace Inc/Squarespace 6//v6//EN
BEGIN:VEVENT
UID:5a54b3fe53450a6b36a9cc40@squarespace.com
DTSTAMP:20180216T043907Z
DTSTART:20180203T003000Z
DTEND:20180204T045900Z
SUMMARY:GRAND THEFT AUDIO
END:VEVENT
END:VCALENDAR
