BEGIN:VCALENDAR
VERSION:2.0
PRODID:-//Squarespace Inc/Squarespace 6//v6//EN
BEGIN:VEVENT
UID:5a54b4869140b7f2661d36d1@squarespace.com
DTSTAMP:20180109T122523Z
DTSTART:20180225T003000Z
DTEND:20180225T045900Z
SUMMARY:DJ P.O.MM
END:VEVENT
END:VCALENDAR
