BEGIN:VCALENDAR
VERSION:2.0
PRODID:-//Squarespace Inc/Squarespace 6//v6//EN
BEGIN:VEVENT
UID:5a865efa8165f5f7f8e589ab@squarespace.com
DTSTAMP:20180216T044112Z
DTSTART:20180303T020000Z
DTEND:20180303T045900Z
SUMMARY:DJ Renatino
END:VEVENT
END:VCALENDAR
