BEGIN:VCALENDAR
VERSION:2.0
PRODID:-//Squarespace Inc/Squarespace 6//v6//EN
BEGIN:VEVENT
UID:5a865f37e4966bc895e7bccb@squarespace.com
DTSTAMP:20180216T043451Z
DTSTART:20180304T013000Z
DTEND:20180304T045900Z
SUMMARY:The Code
END:VEVENT
END:VCALENDAR
