BEGIN:VCALENDAR
VERSION:2.0
PRODID:-//Squarespace Inc/Squarespace 6//v6//EN
BEGIN:VEVENT
UID:5a54b4bce4966b16d15de9ea@squarespace.com
DTSTAMP:20180216T043518Z
DTSTART:20180310T003000Z
DTEND:20180311T045900Z
SUMMARY:GRAND THEFT AUDIO
END:VEVENT
END:VCALENDAR
