BEGIN:VCALENDAR
VERSION:2.0
PRODID:-//Squarespace Inc/Squarespace 6//v6//EN
BEGIN:VEVENT
UID:5b359b5970a6adda8de079d0@squarespace.com
DTSTAMP:20181128T013415Z
DTSTART:20181227T020000Z
DTEND:20181227T045900Z
SUMMARY:🌴Boxing Day Latin Party🌴
END:VEVENT
END:VCALENDAR
