BEGIN:VCALENDAR
VERSION:2.0
PRODID:-//Squarespace Inc/Squarespace 6//v6//EN
BEGIN:VEVENT
UID:5b359d9e2b6a28a0366c9bba@squarespace.com
DTSTAMP:20190121T095436Z
DTSTART:20190126T020000Z
DTEND:20190128T045900Z
SUMMARY:🇦🇺 Australia Day Weekend Shindigz 🇦🇺
END:VEVENT
END:VCALENDAR
