BEGIN:VCALENDAR
VERSION:2.0
PRODID:-//Squarespace Inc/Squarespace 6//v6//EN
BEGIN:VEVENT
UID:5c5a1b30e5e5f0c85bf22851@squarespace.com
DTSTAMP:20190206T022626Z
DTSTART:20190407T000000Z
DTEND:20190407T000000Z
SUMMARY: LIVE TUNES!
END:VEVENT
END:VCALENDAR
