BEGIN:VCALENDAR
VERSION:2.0
PRODID:-//Squarespace Inc/Squarespace 6//v6//EN
BEGIN:VEVENT
UID:5b35bbf50e2e720f5f1da8f0@squarespace.com
DTSTAMP:20190225T225233Z
DTSTART:20190303T013000Z
DTEND:20190303T013000Z
SUMMARY:LIVE TUNES!
END:VEVENT
END:VCALENDAR
