BEGIN:VCALENDAR
VERSION:2.0
PRODID:-//Squarespace Inc/Squarespace 6//v6//EN
BEGIN:VEVENT
UID:5b89124f352f53395f78eacf@squarespace.com
DTSTAMP:20181102T015254Z
DTSTART:20181205T003000Z
DTEND:20181205T035900Z
SUMMARY:✮Latin Party✮
END:VEVENT
END:VCALENDAR
