BEGIN:VCALENDAR
VERSION:2.0
PRODID:-//Squarespace Inc/Squarespace 6//v6//EN
BEGIN:VEVENT
UID:5c2d63458a922dab8b635923@squarespace.com
DTSTAMP:20190113T214926Z
DTSTART:20190116T003000Z
DTEND:20190116T045900Z
SUMMARY:✩Latin Party✩
END:VEVENT
END:VCALENDAR
