BEGIN:VCALENDAR
VERSION:2.0
PRODID:-//Squarespace Inc/Squarespace 6//v6//EN
BEGIN:VEVENT
UID:5c2d6303b8a0450bd9fda71d@squarespace.com
DTSTAMP:20190121T095545Z
DTSTART:20190130T003000Z
DTEND:20190130T045900Z
SUMMARY:✩ House DJ ✩
END:VEVENT
END:VCALENDAR
