BEGIN:VCALENDAR
VERSION:2.0
PRODID:-//Squarespace Inc/Squarespace 6//v6//EN
BEGIN:VEVENT
UID:5c2d633188251bc7be366d58@squarespace.com
DTSTAMP:20190121T100259Z
DTSTART:20190123T003000Z
DTEND:20190123T045900Z
SUMMARY: ✩Latin Party✩
END:VEVENT
END:VCALENDAR
