BEGIN:VCALENDAR
VERSION:2.0
PRODID:-//Squarespace Inc/Squarespace 6//v6//EN
BEGIN:VEVENT
UID:5b8912f81ae6cf59f99142fb@squarespace.com
DTSTAMP:20181220T220228Z
DTSTART:20190104T003000Z
DTEND:20190104T035900Z
SUMMARY:✩Latin Party✩
END:VEVENT
END:VCALENDAR
