BEGIN:VCALENDAR
VERSION:2.0
PRODID:-//Squarespace Inc/Squarespace 6//v6//EN
BEGIN:VEVENT
UID:5bbad47e085229e8f517338c@squarespace.com
DTSTAMP:20181128T013544Z
DTSTART:20181228T023000Z
DTEND:20181228T045900Z
SUMMARY:HIP HOP
END:VEVENT
END:VCALENDAR
