BEGIN:VCALENDAR
VERSION:2.0
PRODID:-//Squarespace Inc/Squarespace 6//v6//EN
BEGIN:VEVENT
UID:5c5a1b17e5e5f0c85bf2255f@squarespace.com
DTSTAMP:20190206T022612Z
DTSTART:20190330T003000Z
DTEND:20190330T003000Z
SUMMARY:✚ BEC ✚
END:VEVENT
END:VCALENDAR
