BEGIN:VCALENDAR
VERSION:2.0
PRODID:-//Squarespace Inc/Squarespace 6//v6//EN
BEGIN:VEVENT
UID:5bcfc858ec212d4c1463f956@squarespace.com
DTSTAMP:20190206T022453Z
DTSTART:20190210T013000Z
DTEND:20190210T013000Z
SUMMARY:✚ BEC ✚
GEO:40.796007;-74.481024
LOCATION:IRONBAR\, 5 Macrossan Street\, Port Douglas\, QLD\, 4877\, Austral
 ia
END:VEVENT
END:VCALENDAR
