BEGIN:VCALENDAR
VERSION:2.0
PRODID:-//Squarespace Inc/Squarespace 6//v6//EN
BEGIN:VEVENT
UID:5bcfc8207817f7e09a98fcc7@squarespace.com
DTSTAMP:20181128T012847Z
DTSTART:20181214T013000Z
DTEND:20181214T045900Z
SUMMARY:HIP HOP
END:VEVENT
END:VCALENDAR
