BEGIN:VCALENDAR
VERSION:2.0
PRODID:-//Squarespace Inc/Squarespace 6//v6//EN
BEGIN:VEVENT
UID:5bbad45e0d929783f9b4d360@squarespace.com
DTSTAMP:20181128T013101Z
DTSTART:20181221T013000Z
DTEND:20181221T045900Z
SUMMARY:☉HIP HOP☉
END:VEVENT
END:VCALENDAR
