BEGIN:VCALENDAR
VERSION:2.0
PRODID:-//Squarespace Inc/Squarespace 6//v6//EN
BEGIN:VEVENT
UID:5bbad4260d929783f9b4d151@squarespace.com
DTSTAMP:20181128T014547Z
DTSTART:20181207T023000Z
DTEND:20181207T045900Z
SUMMARY:HIP HOP
END:VEVENT
END:VCALENDAR
