BEGIN:VCALENDAR
VERSION:2.0
PRODID:-//Squarespace Inc/Squarespace 6//v6//EN
BEGIN:VEVENT
UID:5b89116b2b6a28cadd8b683c@squarespace.com
DTSTAMP:20181102T015509Z
DTSTART:20181219T000000Z
DTEND:20181219T035900Z
SUMMARY:✽Latin Party✽
END:VEVENT
END:VCALENDAR
