BEGIN:VCALENDAR
VERSION:2.0
PRODID:-//Squarespace Inc/Squarespace 6//v6//EN
BEGIN:VEVENT
UID:5c4598eb575d1f15a9899892@squarespace.com
DTSTAMP:20190227T025442Z
DTSTART:20190309T013000Z
DTEND:20190310T013000Z
SUMMARY: ❝ ALEXANDER ABSYNTH ❞
GEO:-16.481341;145.462616
LOCATION:IRONBAR\, 5 Macrossan Street\, Port Douglas\, QLD\, 4877\, Austral
 ia
END:VEVENT
END:VCALENDAR
