BEGIN:VCALENDAR
VERSION:2.0
PRODID:-//Squarespace Inc/Squarespace 6//v6//EN
BEGIN:VEVENT
UID:5c2d6540b8a0450bd9fdc5fa@squarespace.com
DTSTAMP:20190121T100323Z
DTSTART:20190202T013000Z
DTEND:20190203T045900Z
SUMMARY: ❝ LIAM ❞
END:VEVENT
END:VCALENDAR
