BEGIN:VCALENDAR
VERSION:2.0
PRODID:-//Squarespace Inc/Squarespace 6//v6//EN
BEGIN:VEVENT
UID:5c2d64e04ae237360d7d3da6@squarespace.com
DTSTAMP:20190106T014629Z
DTSTART:20190112T013000Z
DTEND:20190113T045900Z
SUMMARY:❝ THE WAY WE ARE ❞
END:VEVENT
END:VCALENDAR
