BEGIN:VCALENDAR
VERSION:2.0
PRODID:-//Squarespace Inc/Squarespace 6//v6//EN
BEGIN:VEVENT
UID:5c2d6554b8a0450bd9fdc6f0@squarespace.com
DTSTAMP:20190103T013026Z
DTSTART:20190109T013000Z
DTEND:20190109T045900Z
SUMMARY:❊ HOSPO NIGHTS ❊
END:VEVENT
END:VCALENDAR
