BEGIN:VCALENDAR
VERSION:2.0
PRODID:-//Squarespace Inc/Squarespace 6//v6//EN
BEGIN:VEVENT
UID:58a3c8e76b8f5bf5fa3b11b6@squarespace.com
DTSTAMP:20170510T234052Z
DTSTART:20170513T003000Z
DTEND:20170513T035900Z
SUMMARY:Girl Radio
END:VEVENT
END:VCALENDAR
