BEGIN:VCALENDAR
VERSION:2.0
PRODID:-//Squarespace Inc/Squarespace 6//v6//EN
BEGIN:VEVENT
UID:58a3c980be6594d9783a47d6@squarespace.com
DTSTAMP:20170510T235629Z
DTSTART:20170520T003000Z
DTEND:20170520T035900Z
SUMMARY:Grand Theft Audio
END:VEVENT
END:VCALENDAR
